BEGIN:VCALENDAR
VERSION:2.0
PRODID:-//The iPad Man - ECPv6.15.20//NONSGML v1.0//EN
CALSCALE:GREGORIAN
METHOD:PUBLISH
X-WR-CALNAME:The iPad Man
X-ORIGINAL-URL:https://theipadman.com
X-WR-CALDESC:Events for The iPad Man
REFRESH-INTERVAL;VALUE=DURATION:PT1H
X-Robots-Tag:noindex
X-PUBLISHED-TTL:PT1H
BEGIN:VTIMEZONE
TZID:Australia/Brisbane
BEGIN:STANDARD
TZOFFSETFROM:+1000
TZOFFSETTO:+1000
TZNAME:AEST
DTSTART:20160101T000000
END:STANDARD
END:VTIMEZONE
BEGIN:VEVENT
DTSTART;TZID=Australia/Brisbane:20180808T103000
DTEND;TZID=Australia/Brisbane:20180808T103000
DTSTAMP:20260421T233515
CREATED:20190313T070211Z
LAST-MODIFIED:20190313T070211Z
UID:6127-1533724200-1533724200@theipadman.com
SUMMARY:Tips & Tricks to get you using Calendars\, Reminders & Notes
DESCRIPTION:
URL:https://theipadman.com/the-events-calendar/tips-tricks-to-get-you-using-calendars-reminders-notes/
END:VEVENT
BEGIN:VEVENT
DTSTART;TZID=Australia/Brisbane:20180711T133000
DTEND;TZID=Australia/Brisbane:20180711T133000
DTSTAMP:20260421T233515
CREATED:20190313T070217Z
LAST-MODIFIED:20190313T070217Z
UID:6143-1531315800-1531315800@theipadman.com
SUMMARY:Apps To Help You Save Money Shopping Online for Xmas
DESCRIPTION:
URL:https://theipadman.com/the-events-calendar/apps-to-help-you-save-money-shopping-online-for-xmas/
END:VEVENT
BEGIN:VEVENT
DTSTART;TZID=Australia/Brisbane:20180711T100000
DTEND;TZID=Australia/Brisbane:20180711T100000
DTSTAMP:20260421T233515
CREATED:20190313T070217Z
LAST-MODIFIED:20190313T070217Z
UID:6142-1531303200-1531303200@theipadman.com
SUMMARY:FREE Introductory iPad Lesson - Sunshine Coast
DESCRIPTION:
URL:https://theipadman.com/the-events-calendar/free-introductory-ipad-lesson-sunshine-coast-11/
END:VEVENT
BEGIN:VEVENT
DTSTART;TZID=Australia/Brisbane:20180703T133000
DTEND;TZID=Australia/Brisbane:20180703T133000
DTSTAMP:20260421T233515
CREATED:20190313T070206Z
LAST-MODIFIED:20190313T070206Z
UID:6108-1530624600-1530624600@theipadman.com
SUMMARY:SUNSHINE COAST - Tips & Tricks Creating\, Editing & Sharing Memories [Photo's App]
DESCRIPTION:
URL:https://theipadman.com/the-events-calendar/sunshine-coast-tips-tricks-creating-editing-sharing-memories-photos-app/
END:VEVENT
BEGIN:VEVENT
DTSTART;TZID=Australia/Brisbane:20180703T100000
DTEND;TZID=Australia/Brisbane:20180703T100000
DTSTAMP:20260421T233515
CREATED:20190313T070205Z
LAST-MODIFIED:20190313T070205Z
UID:6107-1530612000-1530612000@theipadman.com
SUMMARY:FREE Introductory iPad Lesson - Sunshine Coast
DESCRIPTION:
URL:https://theipadman.com/the-events-calendar/free-introductory-ipad-lesson-sunshine-coast-4/
END:VEVENT
BEGIN:VEVENT
DTSTART;TZID=Australia/Brisbane:20180702T133000
DTEND;TZID=Australia/Brisbane:20180702T133000
DTSTAMP:20260421T233515
CREATED:20190313T070205Z
LAST-MODIFIED:20190313T070205Z
UID:6104-1530538200-1530538200@theipadman.com
SUMMARY:SUNSHINE COAST - iPad / iPhone Getting More out of SIRI
DESCRIPTION:
URL:https://theipadman.com/the-events-calendar/sunshine-coast-ipad-iphone-getting-more-out-of-siri/
END:VEVENT
BEGIN:VEVENT
DTSTART;TZID=Australia/Brisbane:20180702T100000
DTEND;TZID=Australia/Brisbane:20180702T100000
DTSTAMP:20260421T233515
CREATED:20190313T070204Z
LAST-MODIFIED:20190313T070204Z
UID:6103-1530525600-1530525600@theipadman.com
SUMMARY:FREE Introductory iPad Lesson - Sunshine Coast
DESCRIPTION:
URL:https://theipadman.com/the-events-calendar/free-introductory-ipad-lesson-sunshine-coast-2/
END:VEVENT
BEGIN:VEVENT
DTSTART;TZID=Australia/Brisbane:20180606T133000
DTEND;TZID=Australia/Brisbane:20180606T133000
DTSTAMP:20260421T233515
CREATED:20190313T070208Z
LAST-MODIFIED:20190313T070208Z
UID:6119-1528291800-1528291800@theipadman.com
SUMMARY:SUNSHINE COAST - Tips & Tricks Creating\, Editing & Sharing Memories [Photo's App]
DESCRIPTION:
URL:https://theipadman.com/the-events-calendar/sunshine-coast-tips-tricks-creating-editing-sharing-memories-photos-app-2/
END:VEVENT
BEGIN:VEVENT
DTSTART;TZID=Australia/Brisbane:20180606T100000
DTEND;TZID=Australia/Brisbane:20180606T100000
DTSTAMP:20260421T233515
CREATED:20190313T070208Z
LAST-MODIFIED:20190313T070208Z
UID:6118-1528279200-1528279200@theipadman.com
SUMMARY:FREE Introductory iPad Lesson - Sunshine Coast
DESCRIPTION:
URL:https://theipadman.com/the-events-calendar/free-introductory-ipad-lesson-sunshine-coast-7/
END:VEVENT
BEGIN:VEVENT
DTSTART;TZID=Australia/Brisbane:20180512T133000
DTEND;TZID=Australia/Brisbane:20180512T133000
DTSTAMP:20260421T233515
CREATED:20190313T070221Z
LAST-MODIFIED:20190313T070221Z
UID:6146-1526131800-1526131800@theipadman.com
SUMMARY:How to Create\, Edit & Share Professional Photo & Video Memories This Christmas
DESCRIPTION:
URL:https://theipadman.com/the-events-calendar/how-to-create-edit-share-professional-photo-video-memories-this-christmas/
END:VEVENT
BEGIN:VEVENT
DTSTART;TZID=Australia/Brisbane:20180512T100000
DTEND;TZID=Australia/Brisbane:20180512T100000
DTSTAMP:20260421T233515
CREATED:20190313T070221Z
LAST-MODIFIED:20190313T070221Z
UID:6145-1526119200-1526119200@theipadman.com
SUMMARY:FREE Introductory iPad Lesson - Sunshine Coast
DESCRIPTION:
URL:https://theipadman.com/the-events-calendar/free-introductory-ipad-lesson-sunshine-coast-12/
END:VEVENT
BEGIN:VEVENT
DTSTART;TZID=Australia/Brisbane:20180509T133000
DTEND;TZID=Australia/Brisbane:20180509T133000
DTSTAMP:20260421T233515
CREATED:20190313T070213Z
LAST-MODIFIED:20190313T070213Z
UID:6134-1525872600-1525872600@theipadman.com
SUMMARY:Hints & Tips for Apple MacBook & iMac Users!
DESCRIPTION:
URL:https://theipadman.com/the-events-calendar/hints-tips-for-apple-macbook-imac-users/
END:VEVENT
BEGIN:VEVENT
DTSTART;TZID=Australia/Brisbane:20180509T100000
DTEND;TZID=Australia/Brisbane:20180509T100000
DTSTAMP:20260421T233515
CREATED:20190313T070213Z
LAST-MODIFIED:20190313T070213Z
UID:6133-1525860000-1525860000@theipadman.com
SUMMARY:FREE Introductory iPad Lesson - Sunshine Coast
DESCRIPTION:
URL:https://theipadman.com/the-events-calendar/free-introductory-ipad-lesson-sunshine-coast-10/
END:VEVENT
BEGIN:VEVENT
DTSTART;TZID=Australia/Brisbane:20180407T100000
DTEND;TZID=Australia/Brisbane:20180407T100000
DTSTAMP:20260421T233515
CREATED:20190313T070209Z
LAST-MODIFIED:20190313T070209Z
UID:6123-1523095200-1523095200@theipadman.com
SUMMARY:FREE Introductory iPad Lesson - Sunshine Coast
DESCRIPTION:
URL:https://theipadman.com/the-events-calendar/free-introductory-ipad-lesson-sunshine-coast-8/
END:VEVENT
BEGIN:VEVENT
DTSTART;TZID=Australia/Brisbane:20180205T123000
DTEND;TZID=Australia/Brisbane:20180205T123000
DTSTAMP:20260421T233515
CREATED:20190313T070207Z
LAST-MODIFIED:20190313T070207Z
UID:6115-1517833800-1517833800@theipadman.com
SUMMARY:SUNSHINE COAST - Tips & Tricks - Accessing the iCloud
DESCRIPTION:
URL:https://theipadman.com/the-events-calendar/sunshine-coast-tips-tricks-accessing-the-icloud/
END:VEVENT
BEGIN:VEVENT
DTSTART;TZID=Australia/Brisbane:20180205T090000
DTEND;TZID=Australia/Brisbane:20180205T090000
DTSTAMP:20260421T233515
CREATED:20190313T070207Z
LAST-MODIFIED:20190313T070207Z
UID:6114-1517821200-1517821200@theipadman.com
SUMMARY:FREE Introductory iPad Lesson - Sunshine Coast
DESCRIPTION:
URL:https://theipadman.com/the-events-calendar/free-introductory-ipad-lesson-sunshine-coast-6/
END:VEVENT
BEGIN:VEVENT
DTSTART;TZID=Australia/Brisbane:20180108T123000
DTEND;TZID=Australia/Brisbane:20180108T123000
DTSTAMP:20260421T233515
CREATED:20190313T070211Z
LAST-MODIFIED:20190313T070211Z
UID:6126-1515414600-1515414600@theipadman.com
SUMMARY:Editing Photos With The Photos App for iPad
DESCRIPTION:
URL:https://theipadman.com/the-events-calendar/editing-photos-with-the-photos-app-for-ipad/
END:VEVENT
BEGIN:VEVENT
DTSTART;TZID=Australia/Brisbane:20180108T090000
DTEND;TZID=Australia/Brisbane:20180108T090000
DTSTAMP:20260421T233515
CREATED:20190313T070210Z
LAST-MODIFIED:20190313T070210Z
UID:6125-1515402000-1515402000@theipadman.com
SUMMARY:FREE Introductory iPad Lesson - Sunshine Coast
DESCRIPTION:
URL:https://theipadman.com/the-events-calendar/free-introductory-ipad-lesson-sunshine-coast-9/
END:VEVENT
BEGIN:VEVENT
DTSTART;TZID=Australia/Brisbane:20171207T123000
DTEND;TZID=Australia/Brisbane:20171207T123000
DTSTAMP:20260421T233515
CREATED:20171207T231319Z
LAST-MODIFIED:20190313T070158Z
UID:4701-1512649800-1512649800@theipadman.com
SUMMARY:Introductory iPad/iPhone Lesson (Sunshine Coast)
DESCRIPTION:
URL:https://theipadman.com/the-events-calendar/introductory-ipad-iphone-lesson-sunshine-coast-12/
END:VEVENT
BEGIN:VEVENT
DTSTART;TZID=Australia/Brisbane:20171201T090000
DTEND;TZID=Australia/Brisbane:20171201T090000
DTSTAMP:20260421T233515
CREATED:20171207T231250Z
LAST-MODIFIED:20190313T070152Z
UID:4659-1512118800-1512118800@theipadman.com
SUMMARY:Introductory iPad/iPhone Group Lesson Labrador
DESCRIPTION:
URL:https://theipadman.com/the-events-calendar/introductory-ipad-iphone-group-lesson-labrador/
END:VEVENT
BEGIN:VEVENT
DTSTART;TZID=Australia/Brisbane:20171110T123000
DTEND;TZID=Australia/Brisbane:20171110T123000
DTSTAMP:20260421T233515
CREATED:20171207T231329Z
LAST-MODIFIED:20190313T070200Z
UID:4718-1510317000-1510317000@theipadman.com
SUMMARY:SUNSHINE COAST - What is new in iOS11 for iPad / iPhone
DESCRIPTION:
URL:https://theipadman.com/the-events-calendar/sunshine-coast-what-is-new-in-ios11-for-ipad-iphone/
END:VEVENT
BEGIN:VEVENT
DTSTART;TZID=Australia/Brisbane:20171110T090000
DTEND;TZID=Australia/Brisbane:20171110T090000
DTSTAMP:20260421T233515
CREATED:20171207T231328Z
LAST-MODIFIED:20190313T070200Z
UID:4716-1510304400-1510304400@theipadman.com
SUMMARY:Introductory iPad/iPhone Group Lesson ( Helensvale )
DESCRIPTION:
URL:https://theipadman.com/the-events-calendar/introductory-ipad-iphone-group-lesson-helensvale-3/
END:VEVENT
BEGIN:VEVENT
DTSTART;TZID=Australia/Brisbane:20171110T090000
DTEND;TZID=Australia/Brisbane:20171110T090000
DTSTAMP:20260421T233515
CREATED:20171207T231328Z
LAST-MODIFIED:20190313T070200Z
UID:4717-1510304400-1510304400@theipadman.com
SUMMARY:SUNSHINE COAST - FREE Introductory iPad Lesson
DESCRIPTION:
URL:https://theipadman.com/the-events-calendar/sunshine-coast-free-introductory-ipad-lesson-5/
END:VEVENT
BEGIN:VEVENT
DTSTART;TZID=Australia/Brisbane:20171101T123000
DTEND;TZID=Australia/Brisbane:20171101T123000
DTSTAMP:20260421T233515
CREATED:20171207T231249Z
LAST-MODIFIED:20190313T070152Z
UID:4658-1509539400-1509539400@theipadman.com
SUMMARY:Introductory iPad/iPhone Group Lesson (2 Hours)
DESCRIPTION:
URL:https://theipadman.com/the-events-calendar/introductory-ipad-iphone-group-lesson-2-hours/
END:VEVENT
BEGIN:VEVENT
DTSTART;TZID=Australia/Brisbane:20171005T133000
DTEND;TZID=Australia/Brisbane:20171005T133000
DTSTAMP:20260421T233515
CREATED:20171207T231307Z
LAST-MODIFIED:20171207T231307Z
UID:4685-1507210200-1507210200@theipadman.com
SUMMARY:How To Use Calendars & Reminders
DESCRIPTION:
URL:https://theipadman.com/the-events-calendar/how-to-use-calendars-reminders/
END:VEVENT
BEGIN:VEVENT
DTSTART;TZID=Australia/Brisbane:20171005T123000
DTEND;TZID=Australia/Brisbane:20171005T123000
DTSTAMP:20260421T233515
CREATED:20171207T231310Z
LAST-MODIFIED:20190313T070155Z
UID:4690-1507206600-1507206600@theipadman.com
SUMMARY:How To Use Calendars & Reminders
DESCRIPTION:
URL:https://theipadman.com/the-events-calendar/how-to-use-calendars-reminders-2/
END:VEVENT
BEGIN:VEVENT
DTSTART;TZID=Australia/Brisbane:20170908T133000
DTEND;TZID=Australia/Brisbane:20170908T133000
DTSTAMP:20260421T233515
CREATED:20171207T231322Z
LAST-MODIFIED:20190313T070159Z
UID:4706-1504877400-1504877400@theipadman.com
SUMMARY:Sunshine Coast - How To Edit (Cut\, Copy & Paste) On Your iPad
DESCRIPTION:
URL:https://theipadman.com/the-events-calendar/sunshine-coast-how-to-edit-cut-copy-paste-on-your-ipad/
END:VEVENT
BEGIN:VEVENT
DTSTART;TZID=Australia/Brisbane:20170817T100000
DTEND;TZID=Australia/Brisbane:20170817T120000
DTSTAMP:20260421T233515
CREATED:20170717T040521Z
LAST-MODIFIED:20170717T040521Z
UID:3692-1502964000-1502971200@theipadman.com
SUMMARY:Introductory iPad/iPhone Group Lesson ( Robina )
DESCRIPTION:Introductory iPad/iPhone Group Lessons Robina (2 Hours)\nIf this date/location is not suitable please click here and fill in your details so we can advise you when the next free lesson will be held.\nThis introductory lesson will help you conquer any fears and gan confidence when using your iPad or iPhone. It is designed for beginenner or intermediate users (who were never given instructions!)\nYou will be provided with large\, easy to read notes and the lesson is delivered in a quiet environemnt with your teacher amplified to help those hard of hearing.\nThis lesson covers:\n\nGetting to know your iPad or iPhone\nUnderstanding and setting up the iCloud (yes you do need it!)\nLearning how to touch your iPad properly to get better accuaracy\nHow to type faster with less mistakes\nHow to find and use shortcuts and menus that will save you time and frustration\n\nPlus much more….\nPlease make sure you device if fully charged and that you have your username and passwords as this is a very hands on lesson where you will be taking lots of action.
URL:https://theipadman.com/the-events-calendar/introductory-ipadiphone-group-lesson-robina-2/
LOCATION:Robina Community Centre\, 196 Robina Town Centre Drive\, Robina\, QLD 4226\, Robina\, 4226\, AU
ATTACH;FMTTYPE=image/jpeg:https://theipadman.com/wp-content/uploads/2017/07/3692_image_original-scaled.jpg
END:VEVENT
BEGIN:VEVENT
DTSTART;TZID=Australia/Brisbane:20170811T100000
DTEND;TZID=Australia/Brisbane:20170811T100000
DTSTAMP:20260421T233515
CREATED:20171207T231334Z
LAST-MODIFIED:20190313T070201Z
UID:4723-1502445600-1502445600@theipadman.com
SUMMARY:SUNSHINE COAST - 2 Hour Introductory iPad Lesson
DESCRIPTION:
URL:https://theipadman.com/the-events-calendar/sunshine-coast-2-hour-introductory-ipad-lesson/
END:VEVENT
BEGIN:VEVENT
DTSTART;TZID=Australia/Brisbane:20170803T133000
DTEND;TZID=Australia/Brisbane:20170803T133000
DTSTAMP:20260421T233515
CREATED:20171207T231259Z
LAST-MODIFIED:20190313T070154Z
UID:4674-1501767000-1501767000@theipadman.com
SUMMARY:*SPECIAL* - Tips & Tricks for your Apple Mac
DESCRIPTION:
URL:https://theipadman.com/the-events-calendar/special-tips-tricks-for-your-apple-mac-2/
END:VEVENT
END:VCALENDAR