BEGIN:VCALENDAR
VERSION:2.0
PRODID:-//The iPad Man - ECPv6.15.20//NONSGML v1.0//EN
CALSCALE:GREGORIAN
METHOD:PUBLISH
X-WR-CALNAME:The iPad Man
X-ORIGINAL-URL:https://theipadman.com
X-WR-CALDESC:Events for The iPad Man
REFRESH-INTERVAL;VALUE=DURATION:PT1H
X-Robots-Tag:noindex
X-PUBLISHED-TTL:PT1H
BEGIN:VTIMEZONE
TZID:Australia/Brisbane
BEGIN:DAYLIGHT
TZOFFSETFROM:+1000
TZOFFSETTO:+1100
TZNAME:AEDT
DTSTART:19711030T160000
END:DAYLIGHT
END:VTIMEZONE
BEGIN:VEVENT
DTSTART;TZID=Australia/Brisbane:20260422T232858
DTEND;TZID=Australia/Brisbane:20260422T232858
DTSTAMP:20260422T232858
CREATED:20171207T231155Z
LAST-MODIFIED:20171207T231155Z
UID:4595-0-0@theipadman.com
SUMMARY:Seniors Week - 2 Hour iPad Lesson
DESCRIPTION:
URL:https://theipadman.com/the-events-calendar/seniors-week-2-hour-ipad-lesson/
END:VEVENT
BEGIN:VEVENT
DTSTART;TZID=Australia/Brisbane:20260422T232858
DTEND;TZID=Australia/Brisbane:20260422T232858
DTSTAMP:20260422T232858
CREATED:20171207T231154Z
LAST-MODIFIED:20171207T231154Z
UID:4591-0-0@theipadman.com
SUMMARY:HANDS ON IPHONE/IPAD CAMERA COURSE ( Sunshine Coast)
DESCRIPTION:
URL:https://theipadman.com/the-events-calendar/hands-on-iphone-ipad-camera-course-sunshine-coast/
END:VEVENT
END:VCALENDAR