BEGIN:VCALENDAR
VERSION:2.0
PRODID:-//The iPad Man - ECPv6.15.20//NONSGML v1.0//EN
CALSCALE:GREGORIAN
METHOD:PUBLISH
X-WR-CALNAME:The iPad Man
X-ORIGINAL-URL:https://theipadman.com
X-WR-CALDESC:Events for The iPad Man
REFRESH-INTERVAL;VALUE=DURATION:PT1H
X-Robots-Tag:noindex
X-PUBLISHED-TTL:PT1H
BEGIN:VTIMEZONE
TZID:Australia/Brisbane
BEGIN:STANDARD
TZOFFSETFROM:+1000
TZOFFSETTO:+1000
TZNAME:AEST
DTSTART:20170101T000000
END:STANDARD
END:VTIMEZONE
BEGIN:VEVENT
DTSTART;TZID=Australia/Brisbane:20220823T100000
DTEND;TZID=Australia/Brisbane:20220823T110000
DTSTAMP:20260421T194449
CREATED:20220617T040627Z
LAST-MODIFIED:20220617T040820Z
UID:11936-1661248800-1661252400@theipadman.com
SUMMARY:Apple Music
DESCRIPTION:Included with Gold & Diamond Membership \n 
URL:https://theipadman.com/the-events-calendar/apple-music/
LOCATION:The iPad Man’s Online School
END:VEVENT
BEGIN:VEVENT
DTSTART;TZID=Australia/Brisbane:20220712T100000
DTEND;TZID=Australia/Brisbane:20220712T110000
DTSTAMP:20260421T194449
CREATED:20220616T104158Z
LAST-MODIFIED:20220617T040555Z
UID:11913-1657620000-1657623600@theipadman.com
SUMMARY:Books App
DESCRIPTION:Included with Gold & Diamond Membership \n 
URL:https://theipadman.com/the-events-calendar/books-app/
LOCATION:The iPad Man’s Online School
END:VEVENT
BEGIN:VEVENT
DTSTART;TZID=Australia/Brisbane:20220518T093000
DTEND;TZID=Australia/Brisbane:20220518T110000
DTSTAMP:20260421T194449
CREATED:20220421T073528Z
LAST-MODIFIED:20220421T073611Z
UID:11854-1652866200-1652871600@theipadman.com
SUMMARY:The iPad Man’s Guide to the iPad & iPhone (Lesson 6)
DESCRIPTION:Included with Lifetime & Diamond Membership
URL:https://theipadman.com/the-events-calendar/the-ipad-mans-guide-to-the-ipad-iphone-lesson-6/
LOCATION:The iPad Man’s Online School
END:VEVENT
BEGIN:VEVENT
DTSTART;TZID=Australia/Brisbane:20220517T093000
DTEND;TZID=Australia/Brisbane:20220517T110000
DTSTAMP:20260421T194449
CREATED:20220421T073438Z
LAST-MODIFIED:20220421T073510Z
UID:11852-1652779800-1652785200@theipadman.com
SUMMARY:The iPad Man’s Guide to the iPad & iPhone (Lesson 5)
DESCRIPTION:Included with Lifetime & Diamond Membership
URL:https://theipadman.com/the-events-calendar/the-ipad-mans-guide-to-the-ipad-iphone-lesson-5/
LOCATION:The iPad Man’s Online School
END:VEVENT
BEGIN:VEVENT
DTSTART;TZID=Australia/Brisbane:20220511T093000
DTEND;TZID=Australia/Brisbane:20220511T110000
DTSTAMP:20260421T194449
CREATED:20220421T073357Z
LAST-MODIFIED:20220421T073426Z
UID:11850-1652261400-1652266800@theipadman.com
SUMMARY:The iPad Man’s Guide to the iPad & iPhone (Lesson 4)
DESCRIPTION:Included with Lifetime & Diamond Membership
URL:https://theipadman.com/the-events-calendar/the-ipad-mans-guide-to-the-ipad-iphone-lesson-4/
LOCATION:The iPad Man’s Online School
END:VEVENT
BEGIN:VEVENT
DTSTART;TZID=Australia/Brisbane:20220510T093000
DTEND;TZID=Australia/Brisbane:20220510T110000
DTSTAMP:20260421T194449
CREATED:20220421T073240Z
LAST-MODIFIED:20220421T073337Z
UID:11848-1652175000-1652180400@theipadman.com
SUMMARY:The iPad Man’s Guide to the iPad & iPhone (Lesson 3)
DESCRIPTION:Included with Lifetime & Diamond Membership
URL:https://theipadman.com/the-events-calendar/the-ipad-mans-guide-to-the-ipad-iphone-lesson-3/
LOCATION:The iPad Man’s Online School
END:VEVENT
BEGIN:VEVENT
DTSTART;TZID=Australia/Brisbane:20220505T093000
DTEND;TZID=Australia/Brisbane:20220505T110000
DTSTAMP:20260421T194449
CREATED:20220421T072911Z
LAST-MODIFIED:20220421T073108Z
UID:11844-1651743000-1651748400@theipadman.com
SUMMARY:The iPad Man’s Guide to the iPad & iPhone (Lesson 2)
DESCRIPTION:Included with Lifetime & Diamond Membership
URL:https://theipadman.com/the-events-calendar/the-ipad-mans-guide-to-the-ipad-iphone-lesson-2/
LOCATION:The iPad Man’s Online School
END:VEVENT
BEGIN:VEVENT
DTSTART;TZID=Australia/Brisbane:20220504T093000
DTEND;TZID=Australia/Brisbane:20220504T110000
DTSTAMP:20260421T194449
CREATED:20220314T040728Z
LAST-MODIFIED:20220421T073209Z
UID:11773-1651656600-1651662000@theipadman.com
SUMMARY:The iPad Man’s Guide to the iPad & iPhone (Lesson 1)
DESCRIPTION:Included with Lifetime & Diamond Membership
URL:https://theipadman.com/the-events-calendar/the-ipad-mans-guide-to-the-ipad-iphone-week-1/
LOCATION:The iPad Man’s Online School
END:VEVENT
BEGIN:VEVENT
DTSTART;TZID=Australia/Brisbane:20220426T190000
DTEND;TZID=Australia/Brisbane:20220426T200000
DTSTAMP:20260421T194449
CREATED:20220613T210356Z
LAST-MODIFIED:20220613T210503Z
UID:11902-1650999600-1651003200@theipadman.com
SUMMARY:Member Exclusive Q&A #9
DESCRIPTION:
URL:https://theipadman.com/the-events-calendar/member-exclusive-qa-9/
LOCATION:The iPad Man’s Online School
END:VEVENT
BEGIN:VEVENT
DTSTART;TZID=Australia/Brisbane:20220419T190000
DTEND;TZID=Australia/Brisbane:20220419T200000
DTSTAMP:20260421T194449
CREATED:20220608T205044Z
LAST-MODIFIED:20220608T205129Z
UID:11900-1650394800-1650398400@theipadman.com
SUMMARY:Member Exclusive Q&A #8
DESCRIPTION:
URL:https://theipadman.com/the-events-calendar/member-exclusive-qa-8/
LOCATION:The iPad Man’s Online School
END:VEVENT
BEGIN:VEVENT
DTSTART;TZID=Australia/Brisbane:20220404T190000
DTEND;TZID=Australia/Brisbane:20220404T200000
DTSTAMP:20260421T194449
CREATED:20220314T040544Z
LAST-MODIFIED:20220314T040622Z
UID:11770-1649098800-1649102400@theipadman.com
SUMMARY:Member Exclusive Q&A #7
DESCRIPTION:
URL:https://theipadman.com/the-events-calendar/member-exclusive-qa-7/
LOCATION:The iPad Man’s Online School
END:VEVENT
BEGIN:VEVENT
DTSTART;TZID=Australia/Brisbane:20220331T180000
DTEND;TZID=Australia/Brisbane:20220331T190000
DTSTAMP:20260421T194449
CREATED:20220314T040506Z
LAST-MODIFIED:20220314T040506Z
UID:11768-1648749600-1648753200@theipadman.com
SUMMARY:Taking Notes with the Notes App
DESCRIPTION:
URL:https://theipadman.com/the-events-calendar/taking-notes-with-the-notes-app/
LOCATION:The iPad Man’s Online School
END:VEVENT
BEGIN:VEVENT
DTSTART;TZID=Australia/Brisbane:20220321T180000
DTEND;TZID=Australia/Brisbane:20220321T190000
DTSTAMP:20260421T194449
CREATED:20220314T040248Z
LAST-MODIFIED:20220314T040248Z
UID:11766-1647885600-1647889200@theipadman.com
SUMMARY:Member Exclusive Q&A #6
DESCRIPTION:
URL:https://theipadman.com/the-events-calendar/member-exclusive-qa-6/
LOCATION:The iPad Man’s Online School
END:VEVENT
BEGIN:VEVENT
DTSTART;TZID=Australia/Brisbane:20220317T180000
DTEND;TZID=Australia/Brisbane:20220317T190000
DTSTAMP:20260421T194449
CREATED:20220313T231633Z
LAST-MODIFIED:20220313T232035Z
UID:11757-1647540000-1647543600@theipadman.com
SUMMARY:Passwords & 2-Factor Authentication
DESCRIPTION:
URL:https://theipadman.com/the-events-calendar/passwords-2-factor-authentication/
LOCATION:The iPad Man’s Online School
END:VEVENT
BEGIN:VEVENT
DTSTART;TZID=Australia/Brisbane:20220310T190000
DTEND;TZID=Australia/Brisbane:20220310T200000
DTSTAMP:20260421T194449
CREATED:20220304T010339Z
LAST-MODIFIED:20220304T010339Z
UID:11632-1646938800-1646942400@theipadman.com
SUMMARY:Safari App Ultimate Workshop
DESCRIPTION:
URL:https://theipadman.com/the-events-calendar/safari-app-ultimate-workshop/
LOCATION:Montana
END:VEVENT
BEGIN:VEVENT
DTSTART;TZID=Australia/Brisbane:20191004T093000
DTEND;TZID=Australia/Brisbane:20191004T093000
DTSTAMP:20260421T194449
CREATED:20190313T070142Z
LAST-MODIFIED:20190313T070142Z
UID:6001-1570181400-1570181400@theipadman.com
SUMMARY:How to Create an Easter Letter in Pages (or any other type of creative document)
DESCRIPTION:
URL:https://theipadman.com/the-events-calendar/how-to-create-an-easter-letter-in-pages-or-any-other-type-of-creative-document/
LOCATION:Montana
END:VEVENT
BEGIN:VEVENT
DTSTART;TZID=Australia/Brisbane:20190901T093000
DTEND;TZID=Australia/Brisbane:20190901T093000
DTSTAMP:20260421T194449
CREATED:20190313T070222Z
LAST-MODIFIED:20190313T070222Z
UID:6150-1567330200-1567330200@theipadman.com
SUMMARY:FREE Introductory iPad Lesson - Sunshine Coast
DESCRIPTION:
URL:https://theipadman.com/the-events-calendar/free-introductory-ipad-lesson-sunshine-coast-13/
LOCATION:Montana
END:VEVENT
BEGIN:VEVENT
DTSTART;TZID=Australia/Brisbane:20190603T130000
DTEND;TZID=Australia/Brisbane:20190603T130000
DTSTAMP:20260421T194449
CREATED:20190313T070226Z
LAST-MODIFIED:20190313T070226Z
UID:6161-1559566800-1559566800@theipadman.com
SUMMARY:Simple Tricks To Help You Scan\, Markup and File Documents
DESCRIPTION:
URL:https://theipadman.com/the-events-calendar/simple-tricks-to-help-you-scan-markup-and-file-documents-2/
LOCATION:Montana
END:VEVENT
BEGIN:VEVENT
DTSTART;TZID=Australia/Brisbane:20190603T093000
DTEND;TZID=Australia/Brisbane:20190603T093000
DTSTAMP:20260421T194449
CREATED:20190313T070225Z
LAST-MODIFIED:20190313T070225Z
UID:6160-1559554200-1559554200@theipadman.com
SUMMARY:FREE Introductory iPad Lesson - Sunshine Coast
DESCRIPTION:
URL:https://theipadman.com/the-events-calendar/free-introductory-ipad-lesson-sunshine-coast-15/
LOCATION:Montana
END:VEVENT
BEGIN:VEVENT
DTSTART;TZID=Australia/Brisbane:20190602T093000
DTEND;TZID=Australia/Brisbane:20190602T093000
DTSTAMP:20260421T194449
CREATED:20190313T070224Z
LAST-MODIFIED:20190313T070224Z
UID:6154-1559467800-1559467800@theipadman.com
SUMMARY:FREE Introductory iPad Lesson - Sunshine Coast
DESCRIPTION:
URL:https://theipadman.com/the-events-calendar/free-introductory-ipad-lesson-sunshine-coast-14/
LOCATION:Montana
END:VEVENT
BEGIN:VEVENT
DTSTART;TZID=Australia/Brisbane:20190304T120000
DTEND;TZID=Australia/Brisbane:20190304T120000
DTSTAMP:20260421T194449
CREATED:20190313T070141Z
LAST-MODIFIED:20190313T070141Z
UID:6000-1551700800-1551700800@theipadman.com
SUMMARY:The Best Travel Advice
DESCRIPTION:
URL:https://theipadman.com/the-events-calendar/the-best-travel-advice/
LOCATION:Montana
END:VEVENT
BEGIN:VEVENT
DTSTART;TZID=Australia/Brisbane:20190304T083000
DTEND;TZID=Australia/Brisbane:20190304T083000
DTSTAMP:20260421T194449
CREATED:20190313T070139Z
LAST-MODIFIED:20190313T070139Z
UID:5999-1551688200-1551688200@theipadman.com
SUMMARY:Discover my favourite features within Safari that you're probably not using
DESCRIPTION:
URL:https://theipadman.com/the-events-calendar/discover-my-favourite-features-within-safari-that-youre-probably-not-using/
LOCATION:Montana
END:VEVENT
BEGIN:VEVENT
DTSTART;TZID=Australia/Brisbane:20181212T123000
DTEND;TZID=Australia/Brisbane:20181212T123000
DTSTAMP:20260421T194449
CREATED:20190313T070222Z
LAST-MODIFIED:20190313T070222Z
UID:6148-1544617800-1544617800@theipadman.com
SUMMARY:How to Create a Christmas Letter in Pages (Tips on Cut\,Copy & Paste too)
DESCRIPTION:
URL:https://theipadman.com/the-events-calendar/how-to-create-a-christmas-letter-in-pages-tips-on-cutcopy-paste-too-2/
LOCATION:Montana
END:VEVENT
BEGIN:VEVENT
DTSTART;TZID=Australia/Brisbane:20181212T090000
DTEND;TZID=Australia/Brisbane:20181212T090000
DTSTAMP:20260421T194449
CREATED:20190313T070221Z
LAST-MODIFIED:20190313T070221Z
UID:6147-1544605200-1544605200@theipadman.com
SUMMARY:How to Create a Christmas Letter in Pages (Tips on Cut\,Copy & Paste too)
DESCRIPTION:
URL:https://theipadman.com/the-events-calendar/how-to-create-a-christmas-letter-in-pages-tips-on-cutcopy-paste-too/
LOCATION:Montana
END:VEVENT
BEGIN:VEVENT
DTSTART;TZID=Australia/Brisbane:20181209T093000
DTEND;TZID=Australia/Brisbane:20181209T093000
DTSTAMP:20260421T194449
CREATED:20190313T070214Z
LAST-MODIFIED:20190313T070214Z
UID:6135-1544347800-1544347800@theipadman.com
SUMMARY:Accessing and Using iCloud for iPad (including the Files App)
DESCRIPTION:
URL:https://theipadman.com/the-events-calendar/accessing-and-using-icloud-for-ipad-including-the-files-app/
LOCATION:Montana
END:VEVENT
BEGIN:VEVENT
DTSTART;TZID=Australia/Brisbane:20181107T123000
DTEND;TZID=Australia/Brisbane:20181107T123000
DTSTAMP:20260421T194449
CREATED:20190313T070210Z
LAST-MODIFIED:20190313T070210Z
UID:6124-1541593800-1541593800@theipadman.com
SUMMARY:Secret Tips To Making Your iPad Easier To Use
DESCRIPTION:
URL:https://theipadman.com/the-events-calendar/secret-tips-to-making-your-ipad-easier-to-use-2/
LOCATION:Montana
END:VEVENT
BEGIN:VEVENT
DTSTART;TZID=Australia/Brisbane:20181104T123000
DTEND;TZID=Australia/Brisbane:20181104T123000
DTSTAMP:20260421T194449
CREATED:20190313T070207Z
LAST-MODIFIED:20190313T070207Z
UID:6111-1541334600-1541334600@theipadman.com
SUMMARY:The Best Apps for Travel - SUNSHINE COAST
DESCRIPTION:
URL:https://theipadman.com/the-events-calendar/the-best-apps-for-travel-sunshine-coast/
LOCATION:Montana
END:VEVENT
BEGIN:VEVENT
DTSTART;TZID=Australia/Brisbane:20181104T090000
DTEND;TZID=Australia/Brisbane:20181104T090000
DTSTAMP:20260421T194449
CREATED:20190313T070206Z
LAST-MODIFIED:20190313T070206Z
UID:6110-1541322000-1541322000@theipadman.com
SUMMARY:FREE Introductory iPad Lesson - Sunshine Coast
DESCRIPTION:
URL:https://theipadman.com/the-events-calendar/free-introductory-ipad-lesson-sunshine-coast-5/
LOCATION:Montana
END:VEVENT
BEGIN:VEVENT
DTSTART;TZID=Australia/Brisbane:20181010T123000
DTEND;TZID=Australia/Brisbane:20181010T123000
DTSTAMP:20260421T194449
CREATED:20190313T070215Z
LAST-MODIFIED:20190313T070215Z
UID:6138-1539174600-1539174600@theipadman.com
SUMMARY:What's New in iOS12 - Including all new Gestures
DESCRIPTION:
URL:https://theipadman.com/the-events-calendar/whats-new-in-ios12-including-all-new-gestures/
LOCATION:Montana
END:VEVENT
BEGIN:VEVENT
DTSTART;TZID=Australia/Brisbane:20180808T133000
DTEND;TZID=Australia/Brisbane:20180808T133000
DTSTAMP:20260421T194449
CREATED:20190313T070211Z
LAST-MODIFIED:20190313T070211Z
UID:6128-1533735000-1533735000@theipadman.com
SUMMARY:Getting Started With Apple Pages for iPad [Apple's version of Word]
DESCRIPTION:
URL:https://theipadman.com/the-events-calendar/getting-started-with-apple-pages-for-ipad-apples-version-of-word/
LOCATION:Montana
END:VEVENT
END:VCALENDAR